BEGIN:VCALENDAR
VERSION:2.0
PRODID:-//hacksw/handcal//NONSGML v1.0//EN
BEGIN:VEVENT
SUMMARY:concours Ufolep en doublette Nexon
UID:a086ddda-1cc3-4773-ab05-ba30b3917571
DTSTART:20260406T120000Z
DTEND:20260406T220000Z
LOCATION:Localisation   
CATEGORIES:Sportif
STATUS:
URL;VALUE=URI:https://www.petanque-arfeuille.fr/evenements/2026/04/06/concours-ufolep-en-doublette-nexon-2404576
END:VEVENT
END:VCALENDAR
