BEGIN:VCALENDAR
VERSION:2.0
PRODID:-//hacksw/handcal//NONSGML v1.0//EN
BEGIN:VEVENT
SUMMARY:concours Ufolep en triplettes Landouge
UID:7b95235b-ae44-40fd-a8d9-08381fae9168
DTSTART:20260419T121500Z
DTEND:20260419T220000Z
LOCATION:Localisation   
CATEGORIES:Sportif
STATUS:
URL;VALUE=URI:https://www.petanque-arfeuille.fr/evenements/2026/04/19/concours-ufolep-en-triplettes-landouge-2404579
END:VEVENT
END:VCALENDAR
